BEGIN:VCALENDAR
VERSION:2.0
PRODID:-//hacksw/handcal//NONSGML v1.0//EN
BEGIN:VEVENT
SUMMARY:Rencontre Jeunes Pourrain
UID:2670c6b4-443b-452b-b2dd-6c93de9037bd
DTSTART:20260410T220000Z
DTEND:20260411T220000Z
LOCATION:Localisation   
CATEGORIES:Sportif
STATUS:
URL;VALUE=URI:https://www.comite-yonne-arc.com/evenements/2026/04/11/rencontre-jeunes-pourrain-2433316
END:VEVENT
END:VCALENDAR
